BEGIN:VCALENDAR
VERSION:2.0
PRODID:-//Tukios.com/
BEGIN:VEVENT
UID:ea2f1f54-16d6-432d-8c9c-7de001002aeb@www.kunsakfh.com
DTSTAMP:20260423T063417Z
DTSTART:20260425T160000Z
DTEND:20260425T190000Z
SUMMARY:Visitation
DESCRIPTION:
URL:https://www.kunsakfh.com/obituaries/cindy-fuchs
LOCATION: 3552 California Avenue  Pittsburgh PA 15212
GEO:40.4799051;-80.0406204
END:VEVENT
END:VCALENDAR