BEGIN:VCALENDAR
VERSION:2.0
PRODID:-//Tukios.com/
BEGIN:VEVENT
UID:c35b827d-32a7-4b85-829a-deab9f26a079@www.kunsakfh.com
DTSTAMP:20260424T232448Z
DTSTART:20260426T190000Z
DTEND:20260426T230000Z
SUMMARY:Visitation
DESCRIPTION:
URL:https://www.kunsakfh.com/obituaries/james-j-spade
LOCATION: 3552 California Ave.  Pittsburgh PA 15212
GEO:40.4799051;-80.0406204
END:VEVENT
END:VCALENDAR